BEGIN:VCALENDAR
VERSION:2.0
PRODID:-//Drachen- und Gleitschirmflieger Heilbronn e. V. - ECPv5.14.2.1//NONSGML v1.0//EN
CALSCALE:GREGORIAN
METHOD:PUBLISH
X-WR-CALNAME:Drachen- und Gleitschirmflieger Heilbronn e. V.
X-ORIGINAL-URL:https://www.dgh-heilbronn.de
X-WR-CALDESC:Veranstaltungen für Drachen- und Gleitschirmflieger Heilbronn e. V.
BEGIN:VTIMEZONE
TZID:Europe/Berlin
BEGIN:DAYLIGHT
TZOFFSETFROM:+0100
TZOFFSETTO:+0200
TZNAME:CEST
DTSTART:20240331T010000
END:DAYLIGHT
BEGIN:STANDARD
TZOFFSETFROM:+0200
TZOFFSETTO:+0100
TZNAME:CET
DTSTART:20241027T010000
END:STANDARD
END:VTIMEZONE
BEGIN:VEVENT
DTSTART;VALUE=DATE:20240914
DTEND;VALUE=DATE:20240915
DTSTAMP:20260419T223815
CREATED:20191229T134133Z
LAST-MODIFIED:20250102T121151Z
UID:10797-1726272000-1726358399@www.dgh-heilbronn.de
SUMMARY:Schleppen Segelflugplatz Heilbronn
DESCRIPTION:geplanter Schleppbetrieb auf dem Flugplatz der Heilbronner Segelflieger \n 
URL:https://www.dgh-heilbronn.de/event/schlepp-hn-24-5/
LOCATION:Segelflugplatz Heilbronn\, Reitgraben 1\, Heilbronn\, 74081\, Deutschland
GEO:49.1246491;9.1814504
X-APPLE-STRUCTURED-LOCATION;VALUE=URI;X-ADDRESS=Segelflugplatz Heilbronn Reitgraben 1 Heilbronn 74081 Deutschland;X-APPLE-RADIUS=500;X-TITLE=Reitgraben 1:geo:9.1814504,49.1246491
END:VEVENT
END:VCALENDAR