BEGIN:VCALENDAR
VERSION:2.0
PRODID:-//Drachen- und Gleitschirmflieger Heilbronn e. V. - ECPv5.14.2.1//NONSGML v1.0//EN
CALSCALE:GREGORIAN
METHOD:PUBLISH
X-WR-CALNAME:Drachen- und Gleitschirmflieger Heilbronn e. V.
X-ORIGINAL-URL:https://www.dgh-heilbronn.de
X-WR-CALDESC:Veranstaltungen für Drachen- und Gleitschirmflieger Heilbronn e. V.
BEGIN:VTIMEZONE
TZID:Europe/Berlin
BEGIN:DAYLIGHT
TZOFFSETFROM:+0100
TZOFFSETTO:+0200
TZNAME:CEST
DTSTART:20260329T010000
END:DAYLIGHT
BEGIN:STANDARD
TZOFFSETFROM:+0200
TZOFFSETTO:+0100
TZNAME:CET
DTSTART:20261025T010000
END:STANDARD
END:VTIMEZONE
BEGIN:VEVENT
DTSTART;TZID=Europe/Berlin:20260206T193000
DTEND;TZID=Europe/Berlin:20260206T220000
DTSTAMP:20260419T205049
CREATED:20251214T170650Z
LAST-MODIFIED:20251231T140311Z
UID:13498-1770406200-1770415200@www.dgh-heilbronn.de
SUMMARY:DGH Jahreshauptversammlung
DESCRIPTION:Anträge zur JHV müssen spätesten am 26.01.2024 beim Vorstand eingehen. \nVorläufige JHV-Agenda: \n\nBegrüßung\nBericht des 1. Vorstandes\nBericht des Technikreferenten\nBericht des Kassierers\nBericht der Kassenprüfer\nEntlastung des Kassierers\nEntlastung des Vorstandes\nNeuwahlen\nAnträge\nAusblick 2026\nAnträge zur Hauptversammlung\nBekanntgabe\nVerschiedenes
URL:https://www.dgh-heilbronn.de/event/clubabend-feb/
LOCATION:Heilbronner Volksgarten\, Pfühlstraße 57\, Heilbronn\, 74076\, Deutschland
GEO:49.1446636;9.236937
X-APPLE-STRUCTURED-LOCATION;VALUE=URI;X-ADDRESS=Heilbronner Volksgarten Pfühlstraße 57 Heilbronn 74076 Deutschland;X-APPLE-RADIUS=500;X-TITLE=Pfühlstraße 57:geo:9.236937,49.1446636
END:VEVENT
END:VCALENDAR